{
 "currentVersion": 10.51,
 "serviceDescription": "Vigentina Maino 2016 drone",
 "mapName": "Layers",
 "description": "",
 "copyrightText": "",
 "supportsDynamicLayers": false,
 "layers": [
  {
   "id": 0,
   "name": "Vigentina_Maino_2016",
   "parentLayerId": -1,
   "defaultVisibility": true,
   "subLayerIds": null,
   "minScale": 24000,
   "maxScale": 0
  }
 ],
 "tables": [],
 "spatialReference": {
  "wkid": 32632,
  "latestWkid": 32632
 },
 "singleFusedMapCache": true,
 "tileInfo": {
  "rows": 256,
  "cols": 256,
  "dpi": 96,
  "format": "MIXED",
  "compressionQuality": 75,
  "origin": {
   "x": -5120900,
   "y": 9998100
  },
  "spatialReference": {
   "wkid": 32632,
   "latestWkid": 32632
  },
  "lods": [
   {
    "level": 0,
    "resolution": 2.6458386250105836,
    "scale": 10000
   },
   {
    "level": 1,
    "resolution": 1.3229193125052918,
    "scale": 5000
   },
   {
    "level": 2,
    "resolution": 0.5291677250021167,
    "scale": 2000
   },
   {
    "level": 3,
    "resolution": 0.26458386250105836,
    "scale": 1000
   },
   {
    "level": 4,
    "resolution": 0.13229193125052918,
    "scale": 500
   }
  ]
 },
 "initialExtent": {
  "xmin": 513360.8627979967,
  "ymin": 5007494.717195944,
  "xmax": 514181.1064855597,
  "ymax": 5007752.878103924,
  "spatialReference": {
   "wkid": 32632,
   "latestWkid": 32632
  }
 },
 "fullExtent": {
  "xmin": 513432.5115417782,
  "ymin": 5007255.904619925,
  "xmax": 514109.4577417782,
  "ymax": 5007729.212699925,
  "spatialReference": {
   "wkid": 32632,
   "latestWkid": 32632
  }
 },
 "minScale": 10000,
 "maxScale": 500,
 "units": "esriMeters",
 "supportedImageFormatTypes": "PNG32,PNG24,PNG,JPG,DIB,TIFF,EMF,PS,PDF,GIF,SVG,SVGZ,BMP",
 "documentInfo": {
  "Title": "",
  "Author": "",
  "Comments": "",
  "Subject": "",
  "Category": "",
  "AntialiasingMode": "None",
  "TextAntialiasingMode": "Force",
  "Keywords": "PAVIA"
 },
 "capabilities": "Map,Query,Data",
 "supportedQueryFormats": "JSON, AMF, geoJSON",
 "exportTilesAllowed": false,
 "supportsDatumTransformation": true,
 "maxRecordCount": 1000,
 "maxImageHeight": 4096,
 "maxImageWidth": 4096,
 "supportedExtensions": ""
}